BEGIN:VCALENDAR
VERSION:2.0
PRODID:-//ritzy* - ECPv6.15.16//NONSGML v1.0//EN
CALSCALE:GREGORIAN
METHOD:PUBLISH
X-ORIGINAL-URL:https://www-stg.ritzy.ch/fr/
X-WR-CALDESC:Évènements pour ritzy*
REFRESH-INTERVAL;VALUE=DURATION:PT1H
X-Robots-Tag:noindex
X-PUBLISHED-TTL:PT1H
BEGIN:VTIMEZONE
TZID:Europe/Zurich
BEGIN:DAYLIGHT
TZOFFSETFROM:+0100
TZOFFSETTO:+0200
TZNAME:CEST
DTSTART:20250330T010000
END:DAYLIGHT
BEGIN:STANDARD
TZOFFSETFROM:+0200
TZOFFSETTO:+0100
TZNAME:CET
DTSTART:20251026T010000
END:STANDARD
BEGIN:DAYLIGHT
TZOFFSETFROM:+0100
TZOFFSETTO:+0200
TZNAME:CEST
DTSTART:20260329T010000
END:DAYLIGHT
BEGIN:STANDARD
TZOFFSETFROM:+0200
TZOFFSETTO:+0100
TZNAME:CET
DTSTART:20261025T010000
END:STANDARD
BEGIN:DAYLIGHT
TZOFFSETFROM:+0100
TZOFFSETTO:+0200
TZNAME:CEST
DTSTART:20270328T010000
END:DAYLIGHT
BEGIN:STANDARD
TZOFFSETFROM:+0200
TZOFFSETTO:+0100
TZNAME:CET
DTSTART:20271031T010000
END:STANDARD
END:VTIMEZONE
BEGIN:VEVENT
DTSTART;TZID=Europe/Zurich:20261028T090000
DTEND;TZID=Europe/Zurich:20261028T170000
DTSTAMP:20260423T190334
CREATED:20260324T091454Z
LAST-MODIFIED:20260423T162612Z
UID:10000585-1793178000-1793206800@www-stg.ritzy.ch
SUMMARY:Décompte salarial et décompte des heures
DESCRIPTION:Cette journée est consacrée à l'apprentissage de la meilleure gestion du temps de travail et du décompte des heures de vos collaborateurs. Revoyez la CCNT afin de l'appliquer correctement et inspirez-vous de trucs et astuces des pros en la matière.
URL:https://www-stg.ritzy.ch/fr/course/decompte-salarial-et-decompte-des-heures/
LOCATION:TechnoArk\, salle R07\, Rue de Technopôle 10\, 3960 Sierre\, Switzerland
ATTACH;FMTTYPE=image/jpeg:https://www-stg.ritzy.ch/wp-content/uploads/2026/03/spiral-binding-g8f72d92a3_1920-1.jpg
END:VEVENT
END:VCALENDAR