BEGIN:VCALENDAR
VERSION:2.0
PRODID:-//ritzy* - ECPv6.15.16//NONSGML v1.0//EN
CALSCALE:GREGORIAN
METHOD:PUBLISH
X-WR-CALNAME:ritzy*
X-ORIGINAL-URL:https://www-stg.ritzy.ch/fr/
X-WR-CALDESC:Évènements pour ritzy*
REFRESH-INTERVAL;VALUE=DURATION:PT1H
X-Robots-Tag:noindex
X-PUBLISHED-TTL:PT1H
BEGIN:VTIMEZONE
TZID:Europe/Zurich
BEGIN:DAYLIGHT
TZOFFSETFROM:+0100
TZOFFSETTO:+0200
TZNAME:CEST
DTSTART:20250330T010000
END:DAYLIGHT
BEGIN:STANDARD
TZOFFSETFROM:+0200
TZOFFSETTO:+0100
TZNAME:CET
DTSTART:20251026T010000
END:STANDARD
BEGIN:DAYLIGHT
TZOFFSETFROM:+0100
TZOFFSETTO:+0200
TZNAME:CEST
DTSTART:20260329T010000
END:DAYLIGHT
BEGIN:STANDARD
TZOFFSETFROM:+0200
TZOFFSETTO:+0100
TZNAME:CET
DTSTART:20261025T010000
END:STANDARD
BEGIN:DAYLIGHT
TZOFFSETFROM:+0100
TZOFFSETTO:+0200
TZNAME:CEST
DTSTART:20270328T010000
END:DAYLIGHT
BEGIN:STANDARD
TZOFFSETFROM:+0200
TZOFFSETTO:+0100
TZNAME:CET
DTSTART:20271031T010000
END:STANDARD
END:VTIMEZONE
BEGIN:VEVENT
DTSTART;TZID=Europe/Zurich:20261019T090000
DTEND;TZID=Europe/Zurich:20261019T170000
DTSTAMP:20260423T202958
CREATED:20260126T082001Z
LAST-MODIFIED:20260423T182318Z
UID:10000548-1792400400-1792429200@www-stg.ritzy.ch
SUMMARY:Marketing des avis
DESCRIPTION:Ce séminaire montre comment le marketing des avis peut être utilisé comme l’un des outils les plus efficaces et rentables. Plutôt que de dépendre de campagnes publicitaires coûteuses\, vous découvrirez comment cet instrument – inspiré de la puissance du bouche-à-oreille – peut être généré de manière systématique\, géré professionnellement et exploité de façon profitable. \nL’accent est mis sur la manière dont des avis authentiques attirent de nouveaux clients\, fidélisent la clientèle existante\, offrent un avantage concurrentiel clair et fournissent des informations précieuses pour l’entreprise. Les participants repartiront avec des méthodes concrètes\, des démarches structurées et des outils immédiatement applicables\, dont l’un sera utilisé en pratique durant la journée. \nCe séminaire est adapté à toutes les branches et à des entreprises de toute taille. Idéal pour tous ceux qui souhaitent exploiter l’un des moyens marketing les plus efficaces et économiques – un potentiel encore largement sous-utilisé aujourd’hui.
URL:https://www-stg.ritzy.ch/fr/course/marketing-des-avis/
LOCATION:TechnoArk\, salle R07\, Rue de Technopôle 10\, 3960 Sierre\, Switzerland
CATEGORIES:Marketing
ATTACH;FMTTYPE=image/png:https://www-stg.ritzy.ch/wp-content/uploads/2026/01/Marketingdesavis-1.png
END:VEVENT
END:VCALENDAR