BEGIN:VCALENDAR
VERSION:2.0
PRODID:-//ritzy* - ECPv6.15.16//NONSGML v1.0//EN
CALSCALE:GREGORIAN
METHOD:PUBLISH
X-ORIGINAL-URL:https://www-stg.ritzy.ch/fr/
X-WR-CALDESC:Évènements pour ritzy*
REFRESH-INTERVAL;VALUE=DURATION:PT1H
X-Robots-Tag:noindex
X-PUBLISHED-TTL:PT1H
BEGIN:VTIMEZONE
TZID:Europe/Zurich
BEGIN:DAYLIGHT
TZOFFSETFROM:+0100
TZOFFSETTO:+0200
TZNAME:CEST
DTSTART:20250330T010000
END:DAYLIGHT
BEGIN:STANDARD
TZOFFSETFROM:+0200
TZOFFSETTO:+0100
TZNAME:CET
DTSTART:20251026T010000
END:STANDARD
BEGIN:DAYLIGHT
TZOFFSETFROM:+0100
TZOFFSETTO:+0200
TZNAME:CEST
DTSTART:20260329T010000
END:DAYLIGHT
BEGIN:STANDARD
TZOFFSETFROM:+0200
TZOFFSETTO:+0100
TZNAME:CET
DTSTART:20261025T010000
END:STANDARD
BEGIN:DAYLIGHT
TZOFFSETFROM:+0100
TZOFFSETTO:+0200
TZNAME:CEST
DTSTART:20270328T010000
END:DAYLIGHT
BEGIN:STANDARD
TZOFFSETFROM:+0200
TZOFFSETTO:+0100
TZNAME:CET
DTSTART:20271031T010000
END:STANDARD
END:VTIMEZONE
BEGIN:VEVENT
DTSTART;TZID=Europe/Zurich:20261007T090000
DTEND;TZID=Europe/Zurich:20261007T123000
DTSTAMP:20260423T190339
CREATED:20260305T155605Z
LAST-MODIFIED:20260423T162610Z
UID:10000580-1791363600-1791376200@www-stg.ritzy.ch
SUMMARY:Prévenir les conflits grâce à la CCNT
DESCRIPTION:Apprenez à appliquer la CCNT\, LHR\, LDAI pour prévenir les conflits. \nCréez des cahiers de charges et de règlements clairs\, améliorez la gestion du personnel et favorisez un climat de travail sain dans votre établissement.
URL:https://www-stg.ritzy.ch/fr/course/prevenir-les-conflits-grace-a-la-ccnt/
LOCATION:TechnoArk\, Rue de Technopôle 10\, 3960 Sierre\, Switzerland
ATTACH;FMTTYPE=image/png:https://www-stg.ritzy.ch/wp-content/uploads/2026/03/Prevenirlesconflits-1.png
END:VEVENT
END:VCALENDAR