BEGIN:VCALENDAR
VERSION:2.0
PRODID:-//ritzy* - ECPv6.15.16//NONSGML v1.0//EN
CALSCALE:GREGORIAN
METHOD:PUBLISH
X-WR-CALNAME:ritzy*
X-ORIGINAL-URL:https://www-stg.ritzy.ch/fr/
X-WR-CALDESC:Évènements pour ritzy*
REFRESH-INTERVAL;VALUE=DURATION:PT1H
X-Robots-Tag:noindex
X-PUBLISHED-TTL:PT1H
BEGIN:VTIMEZONE
TZID:Europe/Zurich
BEGIN:DAYLIGHT
TZOFFSETFROM:+0100
TZOFFSETTO:+0200
TZNAME:CEST
DTSTART:20250330T010000
END:DAYLIGHT
BEGIN:STANDARD
TZOFFSETFROM:+0200
TZOFFSETTO:+0100
TZNAME:CET
DTSTART:20251026T010000
END:STANDARD
BEGIN:DAYLIGHT
TZOFFSETFROM:+0100
TZOFFSETTO:+0200
TZNAME:CEST
DTSTART:20260329T010000
END:DAYLIGHT
BEGIN:STANDARD
TZOFFSETFROM:+0200
TZOFFSETTO:+0100
TZNAME:CET
DTSTART:20261025T010000
END:STANDARD
BEGIN:DAYLIGHT
TZOFFSETFROM:+0100
TZOFFSETTO:+0200
TZNAME:CEST
DTSTART:20270328T010000
END:DAYLIGHT
BEGIN:STANDARD
TZOFFSETFROM:+0200
TZOFFSETTO:+0100
TZNAME:CET
DTSTART:20271031T010000
END:STANDARD
END:VTIMEZONE
BEGIN:VEVENT
DTSTART;TZID=Europe/Zurich:20261005T090000
DTEND;TZID=Europe/Zurich:20261005T170000
DTSTAMP:20260423T202945
CREATED:20260224T115058Z
LAST-MODIFIED:20260423T182317Z
UID:10000569-1791190800-1791219600@www-stg.ritzy.ch
SUMMARY:Éviter la faillite en restauration
DESCRIPTION:Comprenez les principales causes de faillite en restauration et apprenez à structurer un projet viable. \nCette formation aborde le concept\, le business plan\, le budget\, les démarches légales\, le choix du local et la gestion de l’ouverture afin d’assurer la pérennité de votre établissement. 
URL:https://www-stg.ritzy.ch/fr/course/eviter-la-faillite-en-restauration/
LOCATION:TechnoArk\, salle R07\, Rue de Technopôle 10\, 3960 Sierre\, Switzerland
CATEGORIES:Management & Human Resources
ATTACH;FMTTYPE=image/png:https://www-stg.ritzy.ch/wp-content/uploads/2026/02/faillite-1.png
END:VEVENT
END:VCALENDAR