BEGIN:VCALENDAR
VERSION:2.0
PRODID:-//ritzy* - ECPv6.15.16//NONSGML v1.0//EN
CALSCALE:GREGORIAN
METHOD:PUBLISH
X-WR-CALNAME:ritzy*
X-ORIGINAL-URL:https://www-stg.ritzy.ch/fr/
X-WR-CALDESC:Évènements pour ritzy*
REFRESH-INTERVAL;VALUE=DURATION:PT1H
X-Robots-Tag:noindex
X-PUBLISHED-TTL:PT1H
BEGIN:VTIMEZONE
TZID:Europe/Zurich
BEGIN:DAYLIGHT
TZOFFSETFROM:+0100
TZOFFSETTO:+0200
TZNAME:CEST
DTSTART:20250330T010000
END:DAYLIGHT
BEGIN:STANDARD
TZOFFSETFROM:+0200
TZOFFSETTO:+0100
TZNAME:CET
DTSTART:20251026T010000
END:STANDARD
BEGIN:DAYLIGHT
TZOFFSETFROM:+0100
TZOFFSETTO:+0200
TZNAME:CEST
DTSTART:20260329T010000
END:DAYLIGHT
BEGIN:STANDARD
TZOFFSETFROM:+0200
TZOFFSETTO:+0100
TZNAME:CET
DTSTART:20261025T010000
END:STANDARD
BEGIN:DAYLIGHT
TZOFFSETFROM:+0100
TZOFFSETTO:+0200
TZNAME:CEST
DTSTART:20270328T010000
END:DAYLIGHT
BEGIN:STANDARD
TZOFFSETFROM:+0200
TZOFFSETTO:+0100
TZNAME:CET
DTSTART:20271031T010000
END:STANDARD
END:VTIMEZONE
BEGIN:VEVENT
DTSTART;TZID=Europe/Zurich:20260928T090000
DTEND;TZID=Europe/Zurich:20260928T170000
DTSTAMP:20260423T174014
CREATED:20251001T130758Z
LAST-MODIFIED:20260423T152530Z
UID:10000390-1790586000-1790614800@www-stg.ritzy.ch
SUMMARY:École du dos : mon dos et moi
DESCRIPTION:Votre dos vous porte littéralement lors de vos activités quotidiennes et dans vos tâches professionnelles. Et la plupart du temps sans vous demander d’attention ! Semblable à n’importe quelle autre articulation\, il peut arriver qu’il manifeste de la fatigue ou des douleurs. \nCette « école du dos » vous permettra de comprendre votre dos et de le soigner si nécessaire. Améliorez l’ergonomie sur votre lieu de travail et préservez force et souplesse grâce à des exercices à emporter chez vous !
URL:https://www-stg.ritzy.ch/fr/course/ecole-du-dos-mon-dos-et-moi/
LOCATION:A définir\, Switzerland
CATEGORIES:Management & Human Resources
ATTACH;FMTTYPE=image/png:https://www-stg.ritzy.ch/wp-content/uploads/2025/10/Dos-filter.png
END:VEVENT
END:VCALENDAR