BEGIN:VCALENDAR
VERSION:2.0
PRODID:-//ritzy* - ECPv6.15.16//NONSGML v1.0//EN
CALSCALE:GREGORIAN
METHOD:PUBLISH
X-ORIGINAL-URL:https://www-stg.ritzy.ch/fr/
X-WR-CALDESC:Évènements pour ritzy*
REFRESH-INTERVAL;VALUE=DURATION:PT1H
X-Robots-Tag:noindex
X-PUBLISHED-TTL:PT1H
BEGIN:VTIMEZONE
TZID:Europe/Zurich
BEGIN:DAYLIGHT
TZOFFSETFROM:+0100
TZOFFSETTO:+0200
TZNAME:CEST
DTSTART:20250330T010000
END:DAYLIGHT
BEGIN:STANDARD
TZOFFSETFROM:+0200
TZOFFSETTO:+0100
TZNAME:CET
DTSTART:20251026T010000
END:STANDARD
BEGIN:DAYLIGHT
TZOFFSETFROM:+0100
TZOFFSETTO:+0200
TZNAME:CEST
DTSTART:20260329T010000
END:DAYLIGHT
BEGIN:STANDARD
TZOFFSETFROM:+0200
TZOFFSETTO:+0100
TZNAME:CET
DTSTART:20261025T010000
END:STANDARD
BEGIN:DAYLIGHT
TZOFFSETFROM:+0100
TZOFFSETTO:+0200
TZNAME:CEST
DTSTART:20270328T010000
END:DAYLIGHT
BEGIN:STANDARD
TZOFFSETFROM:+0200
TZOFFSETTO:+0100
TZNAME:CET
DTSTART:20271031T010000
END:STANDARD
END:VTIMEZONE
BEGIN:VEVENT
DTSTART;TZID=Europe/Zurich:20260622T090000
DTEND;TZID=Europe/Zurich:20260706T170000
DTSTAMP:20260423T123824
CREATED:20260121T101953Z
LAST-MODIFIED:20260423T102227Z
UID:10000541-1782118800-1783357200@www-stg.ritzy.ch
SUMMARY:WSET® Niveau 2 - certificat en vins
DESCRIPTION:Ces cours s&apos;adressent à tous les professionnels travaillant dans l&apos;hôtellerie\, la restauration ou le commerce et souhaitant élargir leurs connaissances de base en matière de vin. Ce cours est un bon préalable pour tous\, y compris pour les amateurs de vin qui souhaitent acquérir des connaissances solides et professionnelles dans ce domaine.  \nWSET ® 2  Vous découvrirez des vins du monde entier. Vous aborderez les facteurs déterminants\, les cépages\, les principales régions viticoles\, la dégustation systématique\, les vins mousseux\, les vins doux et les vins pétillants\, ainsi que de nombreuses informations sur les propriétés caractéristiques des principaux vins du monde. \nWSET ® 3 est la preuve internationalement reconnue d&apos;une connaissance exceptionnelle du vin sous tous ses aspects. Ce cours de certificat propose une analyse approfondie des principaux vins du monde.  \nProduction de vin (situation géographique\, viticulture\, vinification\, vieillissement et mise en bouteille\, règles d&apos;étiquetage)\, dégustation de vins\, vins du monde entier : France\, Italie\, Espagne & Portugal\, Allemagne\, Europe centrale et du sud-est\, Afrique du Sud\, Australie & Nouvelle-Zélande\, Amérique du Nord\, du Sud et centrale. Vins mousseux\, vins pétillants (vins de liqueur).  \nLe cours comprend également des dégustations détaillées afin de découvrir les styles et les qualités des produits. \nLes personnes qui souhaitent obtenir le certificat WSET® niveau 2 ou 3 Award en vins doivent s&apos;inscrire à l&apos;examen au moins quatre semaines avant le début du cours. Les deux certificats sont reconnus dans plus de 80 pays. \nPour l&apos;inscription à l&apos;examen\, les informations du participant sont transmises à l&apos;entreprise beverageinstitute.ch\, mais la protection des données est garantie. \nLien vers l&apos;inscription au cours WSET 2 (CHF 990.-)https://beverageinstitute.ch/fr/product-category/l2-wset-wines/ \nLien vers l&apos;inscription au cours WSET 3 : (CHF 1&apos;990.-)https://beverageinstitute.ch/fr/product-category/l3_wine_courses/ \nLe Fonds ritzy*-CFC participe aux formations continues hors canton : En tant que détenteur/trice ou collaborateur/trice d&apos;une autorisation d&apos;exploiter valaisanne\, vous souhaitez suivre une formation continue spécifique à votre profession dans un autre canton? \nVous devez déposer votre demande (formulaire de demande de soutien financier ci-dessous) AVANT le début de la formation continue https://my.ritzy.ch/Content/Documents/Financement/Demande_daide_au_financement_2024.pdf
URL:https://www-stg.ritzy.ch/fr/course/wset-niveau-2-ou-3-certificat-en-vins/
LOCATION:TechnoArk\, Rue de Technopôle 10\, 3960 Sierre\, Switzerland
CATEGORIES:Gastronomie & Hotellerie
ATTACH;FMTTYPE=image/png:https://www-stg.ritzy.ch/wp-content/uploads/2026/01/WSET_Filter.png
END:VEVENT
END:VCALENDAR