BEGIN:VCALENDAR
VERSION:2.0
PRODID:-//ritzy* - ECPv6.15.16//NONSGML v1.0//EN
CALSCALE:GREGORIAN
METHOD:PUBLISH
X-WR-CALNAME:ritzy*
X-ORIGINAL-URL:https://www-stg.ritzy.ch/fr/
X-WR-CALDESC:Évènements pour ritzy*
REFRESH-INTERVAL;VALUE=DURATION:PT1H
X-Robots-Tag:noindex
X-PUBLISHED-TTL:PT1H
BEGIN:VTIMEZONE
TZID:Europe/Zurich
BEGIN:DAYLIGHT
TZOFFSETFROM:+0100
TZOFFSETTO:+0200
TZNAME:CEST
DTSTART:20250330T010000
END:DAYLIGHT
BEGIN:STANDARD
TZOFFSETFROM:+0200
TZOFFSETTO:+0100
TZNAME:CET
DTSTART:20251026T010000
END:STANDARD
BEGIN:DAYLIGHT
TZOFFSETFROM:+0100
TZOFFSETTO:+0200
TZNAME:CEST
DTSTART:20260329T010000
END:DAYLIGHT
BEGIN:STANDARD
TZOFFSETFROM:+0200
TZOFFSETTO:+0100
TZNAME:CET
DTSTART:20261025T010000
END:STANDARD
BEGIN:DAYLIGHT
TZOFFSETFROM:+0100
TZOFFSETTO:+0200
TZNAME:CEST
DTSTART:20270328T010000
END:DAYLIGHT
BEGIN:STANDARD
TZOFFSETFROM:+0200
TZOFFSETTO:+0100
TZNAME:CET
DTSTART:20271031T010000
END:STANDARD
END:VTIMEZONE
BEGIN:VEVENT
DTSTART;TZID=Europe/Zurich:20260518T140000
DTEND;TZID=Europe/Zurich:20260622T153000
DTSTAMP:20260421T132753
CREATED:20260119T152241Z
LAST-MODIFIED:20260421T112345Z
UID:10000536-1779112800-1782142200@www-stg.ritzy.ch
SUMMARY:Cours de langue - Italien A1
DESCRIPTION:Ce cours s’adresse aux débutants qui souhaitent apprendre l’italien depuis le début – de manière pratique\, vivante et spécialement adaptée au quotidien professionnel dans l’hôtellerie\, la restauration et le camping. \nVous y apprendrez les expressions essentielles et le vocabulaire approprié pour les situations typiques du contact avec la clientèle : saluer\, se présenter\, donner des informations\, recevoir des souhaits ou prendre une réservation de table. \nGrâce à des exercices variés\, des dialogues et des jeux de rôle\, vous plongerez pas à pas dans la langue italienne. Des thèmes comme l’heure\, les repas\, la météo ou la présentation d’un hôtel rendent le cours concret et directement applicable. Le cours se termine par une révision pratique et un petit examen final – pour un apprentissage motivant et réussi.
URL:https://www-stg.ritzy.ch/fr/course/italien-a1/
LOCATION:Sion\, Switzerland
CATEGORIES:Langues
ATTACH;FMTTYPE=image/png:https://www-stg.ritzy.ch/wp-content/uploads/2026/01/coursdelangque-ItalienA1.png
END:VEVENT
BEGIN:VEVENT
DTSTART;TZID=Europe/Zurich:20260519T110000
DTEND;TZID=Europe/Zurich:20260702T123000
DTSTAMP:20260421T132753
CREATED:20260119T142049Z
LAST-MODIFIED:20260421T112346Z
UID:10000533-1779188400-1782995400@www-stg.ritzy.ch
SUMMARY:Cours de langue - Allemand A1 (mardi & jeudi)
DESCRIPTION:Allemand A1 pour l’hôtellerie\, la restauration et le camping – apprendre avec plaisir et confiance\nBienvenue à notre cours d’allemand pour débutants ! Ce programme s’adresse aux personnes travaillant dans l’hôtellerie\, la restauration ou le camping\, qui souhaitent faire leurs premiers pas en allemand – de manière pratique\, conviviale et adaptée au quotidien professionnel. \nVous apprendrez les expressions essentielles et le vocabulaire utile pour communiquer avec les clients : saluer\, prendre une commande\, donner des informations ou échanger quelques mots avec aisance. Des jeux de rôle\, des dialogues et des mises en situation concrètes vous aideront à progresser en toute confiance. \nDurée du cours\n\n24 leçons de 45 minutes\nDeux fois par semaine (1h30 par séance)
URL:https://www-stg.ritzy.ch/fr/course/cours-de-langue-allemand-a1/
LOCATION:Sion\, Switzerland
CATEGORIES:Langues
ATTACH;FMTTYPE=image/png:https://www-stg.ritzy.ch/wp-content/uploads/2026/01/de_2_FILTER1.png
END:VEVENT
BEGIN:VEVENT
DTSTART;TZID=Europe/Zurich:20260519T124500
DTEND;TZID=Europe/Zurich:20260702T131500
DTSTAMP:20260421T132753
CREATED:20260119T142054Z
LAST-MODIFIED:20260421T112346Z
UID:10000534-1779194700-1782998100@www-stg.ritzy.ch
SUMMARY:Cours de langue - Allemand A2 (mardi & jeudi)
DESCRIPTION:Allemand A2 pour l’hôtellerie\, la restauration et le camping – communiquer avec assurance et professionnalisme\nCe cours s’adresse aux personnes ayant des connaissances de base en allemand (niveau A1) et souhaitant approfondir leurs compétences linguistiques dans un cadre professionnel. \nÀ travers des situations concrètes du quotidien – accueil des clients\, réservations\, service\, informations sur l’établissement – vous développez votre aisance à l’oral et votre compréhension. \nDes jeux de rôle\, des dialogues et des exercices pratiques vous permettent d’élargir votre vocabulaire\, de renforcer votre grammaire et de vous exprimer avec clarté et courtoisie dans le contexte de l’hôtellerie\, de la restauration et du camping. Le cours se termine par une révision ciblée et un examen final. \nDurée du cours\n\n28 leçons de 45 minutes\nRéparties sur deux fois par semaine (1h30 par séance)\n\nVous ne savez pas si ce cours est adapté à votre niveau? Faites le test ci-dessous (environ 15 minutes):
URL:https://www-stg.ritzy.ch/fr/course/cours-de-langue-allemand-a2/
LOCATION:Sion\, Switzerland
CATEGORIES:Langues
ATTACH;FMTTYPE=image/png:https://www-stg.ritzy.ch/wp-content/uploads/2026/01/All_Filter.png
END:VEVENT
BEGIN:VEVENT
DTSTART;TZID=Europe/Zurich:20260519T140000
DTEND;TZID=Europe/Zurich:20260702T153000
DTSTAMP:20260421T132753
CREATED:20260119T142059Z
LAST-MODIFIED:20260421T112346Z
UID:10000535-1779199200-1783006200@www-stg.ritzy.ch
SUMMARY:Cours de langue - Allemand B1 (mardi & jeudi)
DESCRIPTION:Ce cours s’adresse aux personnes ayant des connaissances en allemand de niveau A2 et souhaitant renforcer leurs compétences linguistiques – avec un accent particulier sur le quotidien professionnel dans l’hôtellerie\, la restauration et le camping. \nVous approfondirez votre grammaire\, enrichirez votre vocabulaire professionnel et apprendrez à vous exprimer de manière claire\, polie et assurée – tant dans les échanges avec les clients qu’au sein de l’équipe. \nGrâce à des exercices pratiques\, des jeux de rôle et des scénarios professionnels\, vous gagnerez en aisance à l’oral\, en compréhension et en formulation. Que ce soit à la réception\, lors du conseil sur le menu\, en service ou pour la réservation de chambres – vous vous entraînez à ce qui compte vraiment.
URL:https://www-stg.ritzy.ch/fr/course/allemand-b1/
LOCATION:Sion\, Switzerland
CATEGORIES:Langues
ATTACH;FMTTYPE=image/png:https://www-stg.ritzy.ch/wp-content/uploads/2026/01/coursdelangque-AllmandB1.png
END:VEVENT
BEGIN:VEVENT
DTSTART;TZID=Europe/Zurich:20260519T163000
DTEND;TZID=Europe/Zurich:20260625T180000
DTSTAMP:20260421T132753
CREATED:20260119T142040Z
LAST-MODIFIED:20260421T112345Z
UID:10000531-1779208200-1782410400@www-stg.ritzy.ch
SUMMARY:Cours de langue – Français A1 (mardi & jeudi)
DESCRIPTION:Français pour l’hôtellerie\, la restauration et le camping – pratique et orienté métier\nBienvenue à ce cours de langue spécialement conçu pour les professionnels de l’accueil. Vous apprendrez le français tel qu’il est utilisé dans les hôtels\, restaurants et campings – avec un vocabulaire adapté aux situations réelles du quotidien. \nGrâce à des jeux de rôle\, des dialogues et des mises en situation concrètes\, vous gagnerez en aisance pour accueillir\, conseiller et interagir avec les clients francophones. Que ce soit pour une réservation\, une recommandation ou un échange informel\, vous serez prêt à répondre avec confiance et courtoisie. \nDurée du cours\n24 leçons de 45 minutes – réparties sur deux fois par semaine (1h30 par séance) \nFrais d’inscription\n\nCHF 150.– + CHF 30.– pour le manuel\nPour les personnes ne travaillant pas dans l’hôtellerie\, la restauration ou le camping : CHF 350.– manuel inclus
URL:https://www-stg.ritzy.ch/fr/course/cours-de-langue-francais-a1/
LOCATION:Sion\, Switzerland
CATEGORIES:Langues
ATTACH;FMTTYPE=image/png:https://www-stg.ritzy.ch/wp-content/uploads/2026/01/Fr_filter.png
END:VEVENT
BEGIN:VEVENT
DTSTART;TZID=Europe/Zurich:20260617T090000
DTEND;TZID=Europe/Zurich:20260617T170000
DTSTAMP:20260421T132753
CREATED:20251023T150817Z
LAST-MODIFIED:20260421T112355Z
UID:10000420-1781686800-1781715600@www-stg.ritzy.ch
SUMMARY:Gen’ Z et Alpha
DESCRIPTION:Les plus jeunes de la Génération Z ont 13 ans et les plus âgés 29 ans. La génération Alpha est la dernière en date et son cycle prend fin en 2024\, ce qui fait que les plus âgés ont 14 ans et les derniers de cette générations vont naître en 2024. La génération Z sont nos collaborateurs et nos clients d’aujourd’hui et demain\, il est donc primordial d'apprendre à mieux se connaître afin de mieux construire ensemble.  Pour ce qui est de la génération Alpha\, nous connaissons maintenant les premières tendances en matière de leur comportement et de leurs attentes\, tant dans le milieu professionnel que personnel. \n Cette formation a pour objectifs de présenter et d'échanger sur les défis liés à ces rencontres de générations mais aussi des opportunités et des ouvertures qu'elles représentent. Nous passerons également en revue les techniques managériales et de leadership nécessaires afin d'assurer l'engagement de ses équipes et de les accompagner au succès.
URL:https://www-stg.ritzy.ch/fr/course/gen-z-et-alpha/
LOCATION:Hôtel Porte d’Octodure\, Rte du Grand-Saint-Bernard 5\, 1921 Martigny-Croix\, Switzerland
CATEGORIES:Management & Human Resources
ATTACH;FMTTYPE=image/jpeg:https://www-stg.ritzy.ch/wp-content/uploads/2025/10/brooke-cagle-g1Kr4Ozfoac-unsplash.jpg
END:VEVENT
END:VCALENDAR