BEGIN:VCALENDAR
VERSION:2.0
PRODID:-//ritzy* - ECPv6.15.16//NONSGML v1.0//EN
CALSCALE:GREGORIAN
METHOD:PUBLISH
X-WR-CALNAME:ritzy*
X-ORIGINAL-URL:https://www-stg.ritzy.ch/fr/
X-WR-CALDESC:Évènements pour ritzy*
REFRESH-INTERVAL;VALUE=DURATION:PT1H
X-Robots-Tag:noindex
X-PUBLISHED-TTL:PT1H
BEGIN:VTIMEZONE
TZID:Europe/Zurich
BEGIN:DAYLIGHT
TZOFFSETFROM:+0100
TZOFFSETTO:+0200
TZNAME:CEST
DTSTART:20250330T010000
END:DAYLIGHT
BEGIN:STANDARD
TZOFFSETFROM:+0200
TZOFFSETTO:+0100
TZNAME:CET
DTSTART:20251026T010000
END:STANDARD
BEGIN:DAYLIGHT
TZOFFSETFROM:+0100
TZOFFSETTO:+0200
TZNAME:CEST
DTSTART:20260329T010000
END:DAYLIGHT
BEGIN:STANDARD
TZOFFSETFROM:+0200
TZOFFSETTO:+0100
TZNAME:CET
DTSTART:20261025T010000
END:STANDARD
BEGIN:DAYLIGHT
TZOFFSETFROM:+0100
TZOFFSETTO:+0200
TZNAME:CEST
DTSTART:20270328T010000
END:DAYLIGHT
BEGIN:STANDARD
TZOFFSETFROM:+0200
TZOFFSETTO:+0100
TZNAME:CET
DTSTART:20271031T010000
END:STANDARD
END:VTIMEZONE
BEGIN:VEVENT
DTSTART;TZID=Europe/Zurich:20260511T090000
DTEND;TZID=Europe/Zurich:20260601T170000
DTSTAMP:20260421T101619
CREATED:20260108T151452Z
LAST-MODIFIED:20260421T072409Z
UID:10000516-1778490000-1780333200@www-stg.ritzy.ch
SUMMARY:Vins valaisans dans la restauration
DESCRIPTION:Cette formation organisée en deux journées en collaboration avec l'école du vin de Changins\, vise à renforcer les compétences des professionnels de la restauration dans la connaissance\, la dégustation et la valorisation des vins valaisans. Elle vous permettra de devenir un véritable ambassadeur des crus de votre région\, capable de conseiller efficacement vos clients et de mettre en valeur les produits locaux.\n  \nJour 1 – Introduction au vignoble valaisan et bases de la dégustation\nIntervenant : Dominique Fornage \n\nIntroduction à la dégustation de vin\nLe vignoble valaisan dans le contexte Suisse et international\nHistoire et terroirs valaisans\nLes cépages\nDégustation commentée des cépages emblématiques : Fendant\, Gamay\, Dôle\, Pinot Noir\n\n  \nJour 2 – Vins valaisans dans la restauration : techniques de vente et valorisation\nIntervenant : Expert de l’école de Changins \n\nOrganiser et optimiser le stockage des vins\nMieux présenter et servir le vin. Savoir en parler avec des mots simples\nAcquérir les règles de base des accords mets & vins\nDécouvrir et adopter différents outils de vente et modes de commercialisation\nOptimiser la rentabilité en améliorant les marges sur les vins locaux
URL:https://www-stg.ritzy.ch/fr/course/vins-valaisans-dans-la-restauration/
LOCATION:Château de Villa\, Rue Sainte-Catherine 4\, 3960 Sierre\, Switzerland
CATEGORIES:Gastronomie & Hotellerie
ATTACH;FMTTYPE=image/png:https://www-stg.ritzy.ch/wp-content/uploads/2026/01/Vins_Fornage-1.png
END:VEVENT
BEGIN:VEVENT
DTSTART;TZID=Europe/Zurich:20260513T090000
DTEND;TZID=Europe/Zurich:20260513T170000
DTSTAMP:20260421T101619
CREATED:20260212T211507Z
LAST-MODIFIED:20260421T072410Z
UID:10000554-1778662800-1778691600@www-stg.ritzy.ch
SUMMARY:Introduction à la cuisine végétale
DESCRIPTION:La cuisine végétale est de plus en plus actuelle et la demande pour ce genre de plats évolue en permanence. Toutefois\, il ne suffit pas d’enlever la viande de l’assiette pour proposer une offre végétarienne. Cette formation vous permettra de vous imprégner de l’histoire et de la culture des régimes végétaux et d’un mode d’alimentation durable et responsable tout en étant sensibilisé à l’éthique d’approvisionnement et à la saisonnalité des aliments. Vous découvrirez les sources de protéines végétales essentielles au régime végane et apprendrez des techniques et méthodes fiables et faciles à mettre en pratique pour constituer un menu 100% végétal à la fois nutritif\, gourmand et sain. Le cours « Introduction à la cuisine végétale » est le premier d’une formation complète en 4 modules que vous pourrez suivre au gré de vos envies ou besoin. \nFormation complète \n1: Introduction à la cuisine végétale  \n2: Cuisine végétale: crue\, froide (entrées et plats) & conservation (lactofermentation\, germes etc)  \n3: Cuisine végétale: Plats du jour complets et équilibrés  \n4: Cuisine végétale: Desserts 
URL:https://www-stg.ritzy.ch/fr/course/introduction-a-la-cuisine-vegetale/
LOCATION:EPASC de Châteauneuf\, Avenue de France 25\, 1950 Sion\, Switzerland
CATEGORIES:Gastronomie & Hotellerie
ATTACH;FMTTYPE=image/png:https://www-stg.ritzy.ch/wp-content/uploads/2026/02/cuisinevegetale-19.png
END:VEVENT
BEGIN:VEVENT
DTSTART;TZID=Europe/Zurich:20260513T090000
DTEND;TZID=Europe/Zurich:20260513T170000
DTSTAMP:20260421T101619
CREATED:20260317T172054Z
LAST-MODIFIED:20260421T072410Z
UID:10000582-1778662800-1778691600@www-stg.ritzy.ch
SUMMARY:Prévention d'incendies
DESCRIPTION:Vous apprenez à évaluer les risques\, à prendre des mesures de prévention et à vous comporter correctement en cas d&apos;alarme au feu. En combattant des feux bien réels\, vous apprenez à faire les gestes les plus importants. Ce sont les nouvelles directives de la prévention d&apos;incendies et la reconnaissance des origines de l&apos;incendie qui servent de bases. \nLieu de cours: Ces cours peuvent être organisés en station\, en entreprise ou directement auprès d&apos;Abrifeu SA à Riddes.Organisation dans votre établissement: Le cours dure 1h30 et peut accepter jusqu&apos;à 15 participants. Si plusieurs cours sont prévus dans la journée\, ils sont à organiser dans un rythme suivi de 1h30. Ex: 08h30-10h00 (1er groupe) / 10h30-12h00 (2ème groupe) et ainsi de suite…Le cours ne peut pas être organisé en hiver\, à moins de zéro degrés.
URL:https://www-stg.ritzy.ch/fr/course/prevention-dincendies/
LOCATION:Riddes\, Switzerland
ATTACH;FMTTYPE=image/png:https://www-stg.ritzy.ch/wp-content/uploads/2026/03/Brandverhutung_Filter.png
END:VEVENT
END:VCALENDAR