BEGIN:VCALENDAR
VERSION:2.0
PRODID:-//ritzy* - ECPv6.15.16//NONSGML v1.0//EN
CALSCALE:GREGORIAN
METHOD:PUBLISH
X-ORIGINAL-URL:https://www-stg.ritzy.ch
X-WR-CALDESC:Veranstaltungen für ritzy*
REFRESH-INTERVAL;VALUE=DURATION:PT1H
X-Robots-Tag:noindex
X-PUBLISHED-TTL:PT1H
BEGIN:VTIMEZONE
TZID:Europe/Zurich
BEGIN:DAYLIGHT
TZOFFSETFROM:+0100
TZOFFSETTO:+0200
TZNAME:CEST
DTSTART:20250330T010000
END:DAYLIGHT
BEGIN:STANDARD
TZOFFSETFROM:+0200
TZOFFSETTO:+0100
TZNAME:CET
DTSTART:20251026T010000
END:STANDARD
BEGIN:DAYLIGHT
TZOFFSETFROM:+0100
TZOFFSETTO:+0200
TZNAME:CEST
DTSTART:20260329T010000
END:DAYLIGHT
BEGIN:STANDARD
TZOFFSETFROM:+0200
TZOFFSETTO:+0100
TZNAME:CET
DTSTART:20261025T010000
END:STANDARD
BEGIN:DAYLIGHT
TZOFFSETFROM:+0100
TZOFFSETTO:+0200
TZNAME:CEST
DTSTART:20270328T010000
END:DAYLIGHT
BEGIN:STANDARD
TZOFFSETFROM:+0200
TZOFFSETTO:+0100
TZNAME:CET
DTSTART:20271031T010000
END:STANDARD
END:VTIMEZONE
BEGIN:VEVENT
DTSTART;TZID=Europe/Zurich:20260512T090000
DTEND;TZID=Europe/Zurich:20260512T170000
DTSTAMP:20260421T071510
CREATED:20260106T112414Z
LAST-MODIFIED:20260421T042250Z
UID:10000486-1778576400-1778605200@www-stg.ritzy.ch
SUMMARY:Arbeitsrecht nach L-GAV – Vertiefung für die Praxis
DESCRIPTION:Arbeitsrechtliche Fragestellungen nach dem L-GAV gehören in der Gastronomie zum Führungsalltag und erfordern klare\, rechtssichere Entscheidungen. Dieser Vertiefungskurs baut auf dem Refresher auf und behandelt zentrale Themen wie Kündigungen\, Krankheit und Unfall\, Ferienregelungen sowie Arbeitszeugnisse fundiert und praxisnah. Im Anschluss werden diese Inhalte gezielt auf die Besonderheiten von Saisonbetrieben in der Gastronomie übertragen. Ziel ist es\, Verantwortlichen Sicherheit in der Anwendung des Arbeitsrechts zu geben und typische Fehler sowie rechtliche Risiken im Betriebsalltag zu vermeiden
URL:https://www-stg.ritzy.ch/course/arbeitsrecht-nach-l-gav-vertiefung-fuer-die-praxis/
LOCATION:Visp\, Saal HES SO\, Bahnhofplatz 1b\, 3930 Visp\, Switzerland
CATEGORIES:Management & Human Resources
ATTACH;FMTTYPE=image/png:https://www-stg.ritzy.ch/wp-content/uploads/2026/01/CCNT_filter-3.png
END:VEVENT
BEGIN:VEVENT
DTSTART;TZID=Europe/Zurich:20260518T090000
DTEND;TZID=Europe/Zurich:20260518T170000
DTSTAMP:20260421T071510
CREATED:20260106T162029Z
LAST-MODIFIED:20260421T042252Z
UID:10000501-1779094800-1779123600@www-stg.ritzy.ch
SUMMARY:Kundenbindung und Treueprogramme
DESCRIPTION:In diesem eintägigen Seminar erfahren Sie alles über die Entwicklung und Implementierung von Kundenbindungs- und Treueprogrammen. Der Kurs umfasst sowohl Frontalunterricht als auch interaktive Webinare\, in denen Sie Methoden zur Erfolgsmessung und Umsetzung im Betrieb lernen. Ausserdem erhalten Sie wertvolle Informationen über Bewertungsmarketing und die Nutzung der ritzy* Victory APP\, um digitale Treueprogramme effektiv zu gestalten. \nDer Kurs besteht aus einem Tag Präsenzunterricht und dem Zugang zu 2 Webinaren : \n\nWebinar 1 : Erfolgsmessung und Anpassung von Treueprogrammen Methoden zur Evaluierung der Effektivität von Kundenbindungsmassnahmen\nWebinar 2 : Umsetzung von Treueprogrammen im Betrieb Integration von Bewertungsmarketing\, MenuKompass und Lieferdiensten
URL:https://www-stg.ritzy.ch/course/kundenbindung-und-treueprogramme/
LOCATION:Visp\, Switzerland
CATEGORIES:Marketing
ATTACH;FMTTYPE=image/png:https://www-stg.ritzy.ch/wp-content/uploads/2026/01/Treuerprogramme-filter.png
END:VEVENT
BEGIN:VEVENT
DTSTART;TZID=Europe/Zurich:20260522T083000
DTEND;TZID=Europe/Zurich:20260522T120000
DTSTAMP:20260421T071510
CREATED:20260224T114918Z
LAST-MODIFIED:20260421T042255Z
UID:10000567-1779438600-1779451200@www-stg.ritzy.ch
SUMMARY:Generative KI im Hotelalltag
DESCRIPTION:In diesem ersten Halbtag tauchen wir tief in die Welt der Generativen KI (LLMs wie ChatGPT\, Gemini\, Copilot sowie spezialisierte Media-Tools) ein. Wir zeigen nicht nur die Theorie\, sondern wie diese Technologien ab morgen früh direkt im Hotelbetrieb eingesetzt werden\, um wertvolle Zeit zu gewinnen und die Qualität zu steigern.
URL:https://www-stg.ritzy.ch/course/generative-ki-im-hotelalltag/
LOCATION:Visp\, Saal HES SO\, Bahnhofplatz 1b\, 3930 Visp\, Switzerland
CATEGORIES:Marketing
ATTACH;FMTTYPE=image/png:https://www-stg.ritzy.ch/wp-content/uploads/2026/02/Prompt_IA-filter-75.png
END:VEVENT
BEGIN:VEVENT
DTSTART;TZID=Europe/Zurich:20260522T090000
DTEND;TZID=Europe/Zurich:20260522T170000
DTSTAMP:20260421T071510
CREATED:20260106T172209Z
LAST-MODIFIED:20260421T042254Z
UID:10000506-1779440400-1779469200@www-stg.ritzy.ch
SUMMARY:Social Media HUB
DESCRIPTION:Der Kurs Social Media Marketing von ritzy* richtet sich speziell an die Gastronomie\, Hotellerie\, Campingplätze\, Weinproduzenten und ähnliche Branchen. Dieser eintägige Kurs\, der zwei ergänzende Webinare beinhaltet\, zielt darauf ab\, nicht nur die vielfältigen Möglichkeiten des Social Marketings zu erkunden sondern auch den Teilnehmern zu ermöglichen\, die Zukunft mit arbeitserleichternden Plattformen optimal zu nutzen und eine erfolgreiche Marketingstrategie zu entwickeln. \nDer Kurs besteht aus einem Tag Präsenzunterricht und dem Zugang zu 2 Webinaren : \n\nWebinar 1  : Social Media Tools und Analysemöglichkeiten\nWebinar 2 : Content-Kalender-Management\n\nDie zusätzlichen Kosten für diese Ausbildung umfassen : \n\nEinen Zugang zum Smart Marketing Hub (User-Konto 2 Jahren)
URL:https://www-stg.ritzy.ch/course/social-media-marketing/
LOCATION:Visp\, Switzerland
CATEGORIES:Marketing
ATTACH;FMTTYPE=image/png:https://www-stg.ritzy.ch/wp-content/uploads/2026/01/social_media-filter.png
END:VEVENT
BEGIN:VEVENT
DTSTART;TZID=Europe/Zurich:20260528T090000
DTEND;TZID=Europe/Zurich:20260528T170000
DTSTAMP:20260421T071510
CREATED:20260312T145657Z
LAST-MODIFIED:20260421T042256Z
UID:10000581-1779958800-1779987600@www-stg.ritzy.ch
SUMMARY:Freude am Entscheiden
DESCRIPTION:Entscheidungen erfordern Klarheit\, Mut und ein tiefes Verständnis verschiedener Aspekte. In diesem Kurs lernen Sie verschiedene Methoden\, die Ihnen helfen\, Entscheidungen zu treffen\, Sie trainieren die Anwendung durch gezielte Übungen und gewinnen wertvolle Einblicke in den Zusammenhang mit der Positiven Psychologie.
URL:https://www-stg.ritzy.ch/course/freude-am-entscheiden/
LOCATION:Visp\, Saal HES SO\, Bahnhofplatz 1b\, 3930 Visp\, Switzerland
CATEGORIES:Management & Human Resources
ATTACH;FMTTYPE=image/jpeg:https://www-stg.ritzy.ch/wp-content/uploads/2026/03/Fotolia_84475014_M.jpg
END:VEVENT
END:VCALENDAR