BEGIN:VCALENDAR
VERSION:2.0
PRODID:-//ritzy* - ECPv6.15.16//NONSGML v1.0//EN
CALSCALE:GREGORIAN
METHOD:PUBLISH
X-ORIGINAL-URL:https://www-stg.ritzy.ch
X-WR-CALDESC:Veranstaltungen für ritzy*
REFRESH-INTERVAL;VALUE=DURATION:PT1H
X-Robots-Tag:noindex
X-PUBLISHED-TTL:PT1H
BEGIN:VTIMEZONE
TZID:Europe/Zurich
BEGIN:DAYLIGHT
TZOFFSETFROM:+0100
TZOFFSETTO:+0200
TZNAME:CEST
DTSTART:20250330T010000
END:DAYLIGHT
BEGIN:STANDARD
TZOFFSETFROM:+0200
TZOFFSETTO:+0100
TZNAME:CET
DTSTART:20251026T010000
END:STANDARD
BEGIN:DAYLIGHT
TZOFFSETFROM:+0100
TZOFFSETTO:+0200
TZNAME:CEST
DTSTART:20260329T010000
END:DAYLIGHT
BEGIN:STANDARD
TZOFFSETFROM:+0200
TZOFFSETTO:+0100
TZNAME:CET
DTSTART:20261025T010000
END:STANDARD
BEGIN:DAYLIGHT
TZOFFSETFROM:+0100
TZOFFSETTO:+0200
TZNAME:CEST
DTSTART:20270328T010000
END:DAYLIGHT
BEGIN:STANDARD
TZOFFSETFROM:+0200
TZOFFSETTO:+0100
TZNAME:CET
DTSTART:20271031T010000
END:STANDARD
END:VTIMEZONE
BEGIN:VEVENT
DTSTART;TZID=Europe/Zurich:20260917T090000
DTEND;TZID=Europe/Zurich:20260917T170000
DTSTAMP:20260421T114531
CREATED:20251016T121057Z
LAST-MODIFIED:20260421T092414Z
UID:10000411-1789635600-1789664400@www-stg.ritzy.ch
SUMMARY:Gefahrenzone Allergien
DESCRIPTION:Der Kurs vermittelt Ihnen Fachwissen rund ums Thema Nahrungsmittelallergien und -unverträglichkeiten\, z.B. lernen Sie die häufigsten Auslöser und die Beschwerden dieser Erkrankungen kennen. Sie erhalten vertiefte Kenntnisse zur Lebensmittelkennzeichnung und wir erarbeiten die wichtigsten Punkte eines Allergenmanagements.
URL:https://www-stg.ritzy.ch/course/gefahrenzone-allergien/
LOCATION:Visp\, Saal HES SO\, Bahnhofplatz 1b\, 3930 Visp\, Switzerland
CATEGORIES:Gastronomie & Hotellerie
ATTACH;FMTTYPE=image/png:https://www-stg.ritzy.ch/wp-content/uploads/2025/10/Gefahrenzoneallergien-1.png
END:VEVENT
BEGIN:VEVENT
DTSTART;TZID=Europe/Zurich:20260923T090000
DTEND;TZID=Europe/Zurich:20260923T170000
DTSTAMP:20260421T114531
CREATED:20251009T130547Z
LAST-MODIFIED:20260421T092414Z
UID:10000398-1790154000-1790182800@www-stg.ritzy.ch
SUMMARY:Service Schnellkurs
DESCRIPTION:Dieser Intensivkurs führt Sie ein in die Serviceregeln und deren praktische Anwendung. Sie lernen das Arbeitsmaterial und die Fachausdrücke kennen\, entdecken auch Themen wie Servicearten\, Mise en place\,  passende Gedecke\, und Dekoration. Tipps zu Verkaufsargumenten\, dem Verhalten bei der Zubereitung vor dem Gast sowie zu Getränken und Wein runden diesen geballten Kurs ab.
URL:https://www-stg.ritzy.ch/course/service-schnellkurs/
LOCATION:TV Oberwallis\, Englisch_Gruss.1\, 3902 Brig-Glis\, Switzerland
CATEGORIES:Gastronomie & Hotellerie
ATTACH;FMTTYPE=image/png:https://www-stg.ritzy.ch/wp-content/uploads/2025/10/Service_Filter-1.png
END:VEVENT
BEGIN:VEVENT
DTSTART;TZID=Europe/Zurich:20261013T083000
DTEND;TZID=Europe/Zurich:20261013T161500
DTSTAMP:20260421T114531
CREATED:20260106T142015Z
LAST-MODIFIED:20260421T092416Z
UID:10000495-1791880200-1791908100@www-stg.ritzy.ch
SUMMARY:KOPAS Arbeitssicherheit
DESCRIPTION:Nach dem Besuch dieses Kurses können Sie ein Konzept zur Förderung des Arbeitssicherheit und der Gesundheit in Ihrem Betrieb erstellen. Sie lernen verschiedene Gefahren und dazu mögliche Antworten zur Förderung der Arbeitssicherheit kennen. Mit wenig Aufwand sind Sie auf dem aktuellsten Stand der Vorschriften zur Arbeitssicherheit.
URL:https://www-stg.ritzy.ch/course/arbeitssicherheit/
LOCATION:Visp\, Saal HES SO\, Bahnhofplatz 1b\, 3930 Visp\, Switzerland
CATEGORIES:Sicherheit & Hygiene
ATTACH;FMTTYPE=image/png:https://www-stg.ritzy.ch/wp-content/uploads/2026/01/ArbeitssicherheitFILTER-1.png
END:VEVENT
BEGIN:VEVENT
DTSTART;TZID=Europe/Zurich:20261013T090000
DTEND;TZID=Europe/Zurich:20261013T170000
DTSTAMP:20260421T114531
CREATED:20260106T172326Z
LAST-MODIFIED:20260421T092416Z
UID:10000512-1791882000-1791910800@www-stg.ritzy.ch
SUMMARY:Newsletter-Marketing
DESCRIPTION:Dieser Tageskurs vermittelt umfassende Kenntnisse im Newsletter-Marketing\, einschliesslich Design\, Zielgruppenansprache und Personalisierung. Die Teilnehmer lernen\, wie sie wirkungsvolle Newsletter erstellen\, die sich abheben und effektiv zur Gewinnung von Stammkunden beitragen. Ein besonderer Fokus liegt auf der Integration von Cross-Marketing-Events. \nDer Kurs umfasst einen Tag Präsenzunterricht und den Zugang zu zwei Webinaren. \n\nWebinar 1 : Zielgruppenansprache optimieren \nWebinar 2 : Personalisierung umsetzen 
URL:https://www-stg.ritzy.ch/course/newsletter-marketing/
LOCATION:Visp\, Switzerland
CATEGORIES:Marketing
ATTACH;FMTTYPE=image/png:https://www-stg.ritzy.ch/wp-content/uploads/2026/01/Excel-filter32-1.png
END:VEVENT
BEGIN:VEVENT
DTSTART;TZID=Europe/Zurich:20261024T090000
DTEND;TZID=Europe/Zurich:20261024T170000
DTSTAMP:20260421T114531
CREATED:20260402T161040Z
LAST-MODIFIED:20260421T092417Z
UID:10000603-1792832400-1792861200@www-stg.ritzy.ch
SUMMARY:Intensiv Servicekurs
DESCRIPTION:In diesem praxisorientierten Intensivkurs vertiefen die Teilnehmenden ihre Servicekompetenzen und gewinnen Sicherheit im professionellen Umgang mit Gästen. Der Fokus liegt auf der direkten Anwendung im Servicealltag sowie auf der Verfeinerung bestehender Fähigkeiten.Die Teilnehmenden lernen verschiedene Servicearten gezielt einzusetzen – vom sicheren Tellertragen über den Gueridon- und Plattenservice bis hin zu stilvollen Abläufen am Tisch. Im Getränkeservice wird das fachgerechte Dekantieren und Belüften von Weinen praxisnah vermittelt.Ein besonderer Schwerpunkt liegt auf dem Arbeiten vor dem Gast: Techniken wie Marinieren\, Filetieren\, Tranchieren und Flambieren werden Schritt für Schritt geübt und perfektioniert. Ergänzend dazu werden kreative und ansprechende Serviettenfalttechniken vermittelt.Darüber hinaus stärkt der Kurs die Kompetenzen im aktiven Verkauf. Die Teilnehmenden lernen\, durch gezielten Worteinsatz\, attraktive Präsentation und geschickte Zusatzverkäufe den Umsatz zu steigern und gleichzeitig ein positives Gästeerlebnis zu schaffen.
URL:https://www-stg.ritzy.ch/course/intensiv-servicekurs/
LOCATION:A définir\, Switzerland
CATEGORIES:Gastronomie & Hotellerie
ATTACH;FMTTYPE=image/png:https://www-stg.ritzy.ch/wp-content/uploads/2026/04/Service_Filter-1.png
END:VEVENT
BEGIN:VEVENT
DTSTART;TZID=Europe/Zurich:20261027T090000
DTEND;TZID=Europe/Zurich:20261027T170000
DTSTAMP:20260421T114531
CREATED:20260106T092106Z
LAST-MODIFIED:20260421T092418Z
UID:10000485-1793091600-1793120400@www-stg.ritzy.ch
SUMMARY:Arbeitsrecht nach L-GAV
DESCRIPTION:Verschaffen Sie sich einen Überblick über sämtliche arbeitsrechtlichen Aspekte in Zusammenhang mit dem L-GAV und dem Arbeitsrecht – als Wiederauffrischung oder zur Wissenserweiterung. Sie lernen im Rahmen der gesetzlichen Vorschriften zudem verschiedene Möglichkeiten kennen\, Arbeitszeiten neu und effizient zu gestalten\, damit Ihnen die Positionierung als moderner und attraktiver Arbeitgeber auf dem Arbeitsmarkt gelingt. Ebenfalls gehen wir auf verschiedene Eigenheiten des L-GAV ein. In diesem Zusammenhang zeigen wir Ihnen die finanziellen Folgen der Mitarbeiterplanung auf und wie Sie darauf positiv Einfluss nehmen können.
URL:https://www-stg.ritzy.ch/course/arbeitsrecht-nach-l-gav/
LOCATION:Visp\, Saal HES SO\, Bahnhofplatz 1b\, 3930 Visp\, Switzerland
CATEGORIES:Management & Human Resources
ATTACH;FMTTYPE=image/png:https://www-stg.ritzy.ch/wp-content/uploads/2026/01/CCNT_filter-2.png
END:VEVENT
BEGIN:VEVENT
DTSTART;TZID=Europe/Zurich:20261110T090000
DTEND;TZID=Europe/Zurich:20261110T170000
DTSTAMP:20260421T114531
CREATED:20260106T172335Z
LAST-MODIFIED:20260421T092419Z
UID:10000513-1794301200-1794330000@www-stg.ritzy.ch
SUMMARY:Stellenbörse und Rekrutierung
DESCRIPTION:In diesem Seminar lernen die Teilnehmer effektive Rekrutierungsstrategien für die Gastronomie und Hotellerie. Vermittelt werden Werkzeuge wie TV-Werbung\, der ritzy* Social Hub und das CORE System Personal. Dabei erhalten die Teilnehmer zahlreiche Vorlagen und Praxisbeispiele. Zudem haben sie die Möglichkeit\, ihre Stellenangebote europaweit auf dem spezialisierten Portal WorkSphere.zone zu veröffentlichen\, um qualifiziertes Gastronomiepersonal aus Ländern wie Italien\, Portugal\, der Schweiz\, Deutschland und Österreich zu gewinnen.\nNur mit dem Kurs kann das HR Modul von CORE gekauft werden für den eigenen Betrieb. \nDer Kurs umfasst 1 Tag Präsenzunterricht und den Zugang zu zwei Webinaren.
URL:https://www-stg.ritzy.ch/course/stellenboerse-und-rekrutierung/
LOCATION:Visp\, Switzerland
CATEGORIES:Marketing
ATTACH;FMTTYPE=image/png:https://www-stg.ritzy.ch/wp-content/uploads/2026/01/stellenboerse-filter-1.png
END:VEVENT
BEGIN:VEVENT
DTSTART;TZID=Europe/Zurich:20261111T090000
DTEND;TZID=Europe/Zurich:20261111T170000
DTSTAMP:20260421T114531
CREATED:20260106T172345Z
LAST-MODIFIED:20260421T092419Z
UID:10000514-1794387600-1794416400@www-stg.ritzy.ch
SUMMARY:Social Media HUB
DESCRIPTION:Der Kurs Social Media Marketing von ritzy* richtet sich speziell an die Gastronomie\, Hotellerie\, Campingplätze\, Weinproduzenten und ähnliche Branchen. Dieser eintägige Kurs\, der zwei ergänzende Webinare beinhaltet\, zielt darauf ab\, nicht nur die vielfältigen Möglichkeiten des Social Marketings zu erkunden sondern auch den Teilnehmern zu ermöglichen\, die Zukunft mit arbeitserleichternden Plattformen optimal zu nutzen und eine erfolgreiche Marketingstrategie zu entwickeln. \nDer Kurs besteht aus einem Tag Präsenzunterricht und dem Zugang zu 2 Webinaren : \n\nWebinar 1  : Social Media Tools und Analysemöglichkeiten\nWebinar 2 : Content-Kalender-Management\n\nDie zusätzlichen Kosten für diese Ausbildung umfassen : \n\nEinen Zugang zum Smart Marketing Hub (User-Konto 2 Jahren)
URL:https://www-stg.ritzy.ch/course/social-media-marketing/
LOCATION:Visp\, Switzerland
CATEGORIES:Marketing
ATTACH;FMTTYPE=image/png:https://www-stg.ritzy.ch/wp-content/uploads/2026/01/social_media-filter-1.png
END:VEVENT
BEGIN:VEVENT
DTSTART;TZID=Europe/Zurich:20261116T090000
DTEND;TZID=Europe/Zurich:20261116T170000
DTSTAMP:20260421T114531
CREATED:20260108T171533Z
LAST-MODIFIED:20260421T092419Z
UID:10000518-1794819600-1794848400@www-stg.ritzy.ch
SUMMARY:Bewertungsmarketing
DESCRIPTION:Dieses Seminar zeigt\, wie Bewertungsmarketing als eines der wirkungsvollsten und zugleich effizientesten Marketinginstrumente eingesetzt werden kann. Statt auf kostspielige Werbemassnahmen angewiesen zu sein\, wird vermittelt\, wie dieses Instrument – angelehnt an die Effektivität von Mund-zu-Mund-Empfehlungen – systematisch generiert\, professionell gemanagt und gewinnbringend genutzt wird. Im Mittelpunkt steht\, wie authentische Kundenbewertungen neue sowie wiederkehrende Kundschaft anziehen\, als klarer Wettbewerbsvorteil dienen\, wertvolle betriebliche Erkenntnisse liefern und wie praxisorientiert umgegangen wird. \nDie Teilnehmenden erhalten konkrete Methoden\, strukturierte Vorgehensweisen und direkt anwendbare Tools\, von denen eines im Rahmen des Tageskurses gemeinsam eingesetzt wird. Das Seminar ist branchenunabhängig und für Betriebe jeder Grösse geeignet. Ideal für alle\, die eines der effektivsten und gleichzeitig kostengünstigsten Marketingmittel nutzen möchten – ein Potenzial\, das heute noch vielfach unerschöpft bleibt. Ausserdem haben Sie Zugang zu zwei Webinaren : \n\nWebinar 1: Implementation und Anwendung von Bewertungsmarketing mit Trustify in der Praxis\nWebinar 2: Optimierung und Anwendung von Bewertungsmarketing in der Praxis
URL:https://www-stg.ritzy.ch/course/bewertungsmarketing/
CATEGORIES:Marketing
ATTACH;FMTTYPE=image/png:https://www-stg.ritzy.ch/wp-content/uploads/2026/01/Bewertungs_filter-2.png
END:VEVENT
BEGIN:VEVENT
DTSTART;TZID=Europe/Zurich:20261123T090000
DTEND;TZID=Europe/Zurich:20261123T170000
DTSTAMP:20260421T114531
CREATED:20260120T162346Z
LAST-MODIFIED:20260421T092419Z
UID:10000540-1795424400-1795453200@www-stg.ritzy.ch
SUMMARY:Event Excellence - Innovative Vermarktungsstrategien für Hospitality & Tourismus
DESCRIPTION:Dieser intensive Praxiskurs vermittelt Führungskräften und Entscheidungsträgern aus der Hospitality- und Tourismusbranche die neuesten Strategien und Werkzeuge zur erfolgreichen Event-Vermarktung und Marktpositionierung. Sie lernen\, wie Sie Ihre Eventräume\, kulinarischen Angebote und Erlebniskonzepte als einzigartige Verkaufsargumente positionieren und dabei digitale Innovationen gewinnbringend einsetzen.
URL:https://www-stg.ritzy.ch/course/event-excellence-innovative-vermarktungsstrategien-fuer-hospitality-tourismus/
LOCATION:Visp\, Switzerland
CATEGORIES:Marketing
ATTACH;FMTTYPE=image/jpeg:https://www-stg.ritzy.ch/wp-content/uploads/2026/01/2-1.jpg
END:VEVENT
BEGIN:VEVENT
DTSTART;TZID=Europe/Zurich:20261126T090000
DTEND;TZID=Europe/Zurich:20261126T170000
DTSTAMP:20260421T114531
CREATED:20260106T112442Z
LAST-MODIFIED:20260421T092420Z
UID:10000487-1795683600-1795712400@www-stg.ritzy.ch
SUMMARY:Arbeitsrecht nach L-GAV – Vertiefung für die Praxis
DESCRIPTION:Arbeitsrechtliche Fragestellungen nach dem L-GAV gehören in der Gastronomie zum Führungsalltag und erfordern klare\, rechtssichere Entscheidungen. Dieser Vertiefungskurs baut auf dem Refresher auf und behandelt zentrale Themen wie Kündigungen\, Krankheit und Unfall\, Ferienregelungen sowie Arbeitszeugnisse fundiert und praxisnah. Im Anschluss werden diese Inhalte gezielt auf die Besonderheiten von Saisonbetrieben in der Gastronomie übertragen. Ziel ist es\, Verantwortlichen Sicherheit in der Anwendung des Arbeitsrechts zu geben und typische Fehler sowie rechtliche Risiken im Betriebsalltag zu vermeiden
URL:https://www-stg.ritzy.ch/course/arbeitsrecht-nach-l-gav-vertiefung-fuer-die-praxis/
LOCATION:Visp\, Saal HES SO\, Bahnhofplatz 1b\, 3930 Visp\, Switzerland
CATEGORIES:Management & Human Resources
ATTACH;FMTTYPE=image/png:https://www-stg.ritzy.ch/wp-content/uploads/2026/01/CCNT_filter-4.png
END:VEVENT
BEGIN:VEVENT
DTSTART;TZID=Europe/Zurich:20261202T090000
DTEND;TZID=Europe/Zurich:20261202T170000
DTSTAMP:20260421T114531
CREATED:20251009T130556Z
LAST-MODIFIED:20260421T092420Z
UID:10000399-1796202000-1796230800@www-stg.ritzy.ch
SUMMARY:Service Schnellkurs
DESCRIPTION:Dieser Intensivkurs führt Sie ein in die Serviceregeln und deren praktische Anwendung. Sie lernen das Arbeitsmaterial und die Fachausdrücke kennen\, entdecken auch Themen wie Servicearten\, Mise en place\,  passende Gedecke\, und Dekoration. Tipps zu Verkaufsargumenten\, dem Verhalten bei der Zubereitung vor dem Gast sowie zu Getränken und Wein runden diesen geballten Kurs ab.
URL:https://www-stg.ritzy.ch/course/service-schnellkurs/
LOCATION:TV Oberwallis\, Englisch_Gruss.1\, 3902 Brig-Glis\, Switzerland
CATEGORIES:Gastronomie & Hotellerie
ATTACH;FMTTYPE=image/png:https://www-stg.ritzy.ch/wp-content/uploads/2025/10/Service_Filter-2.png
END:VEVENT
END:VCALENDAR