BEGIN:VCALENDAR
VERSION:2.0
PRODID:-//ritzy* - ECPv6.15.16//NONSGML v1.0//EN
CALSCALE:GREGORIAN
METHOD:PUBLISH
X-ORIGINAL-URL:https://www-stg.ritzy.ch
X-WR-CALDESC:Veranstaltungen für ritzy*
REFRESH-INTERVAL;VALUE=DURATION:PT1H
X-Robots-Tag:noindex
X-PUBLISHED-TTL:PT1H
BEGIN:VTIMEZONE
TZID:Europe/Zurich
BEGIN:DAYLIGHT
TZOFFSETFROM:+0100
TZOFFSETTO:+0200
TZNAME:CEST
DTSTART:20250330T010000
END:DAYLIGHT
BEGIN:STANDARD
TZOFFSETFROM:+0200
TZOFFSETTO:+0100
TZNAME:CET
DTSTART:20251026T010000
END:STANDARD
BEGIN:DAYLIGHT
TZOFFSETFROM:+0100
TZOFFSETTO:+0200
TZNAME:CEST
DTSTART:20260329T010000
END:DAYLIGHT
BEGIN:STANDARD
TZOFFSETFROM:+0200
TZOFFSETTO:+0100
TZNAME:CET
DTSTART:20261025T010000
END:STANDARD
BEGIN:DAYLIGHT
TZOFFSETFROM:+0100
TZOFFSETTO:+0200
TZNAME:CEST
DTSTART:20270328T010000
END:DAYLIGHT
BEGIN:STANDARD
TZOFFSETFROM:+0200
TZOFFSETTO:+0100
TZNAME:CET
DTSTART:20271031T010000
END:STANDARD
END:VTIMEZONE
BEGIN:VEVENT
DTSTART;TZID=Europe/Zurich:20260602T083000
DTEND;TZID=Europe/Zurich:20260623T120000
DTSTAMP:20260421T121834
CREATED:20251104T121015Z
LAST-MODIFIED:20260421T092352Z
UID:10000426-1780389000-1782216000@www-stg.ritzy.ch
SUMMARY:Word - Grundlage
DESCRIPTION:Word ist ein Textverarbeitungsprogramm zum Verfassen von Textdokumenten. Der erstellte Text kann als Datei abgespeichert und/oder ausgedruckt werden. Die Textverarbeitungsprogramme lassen sich auch Grafiken und Tabellen einbinden. Ein erweiterter Funktionsumfang wie z.B. Rechtschreibprüfung\, Indexherstellung\, Such- und Ersatzfunktionen erhöhen den Nutzen für die Anwender. \nUnterrichtsort :\nHES-SO Wallis\, Standort Visp (Pflanzenstrasse 6)\, oder Standort Sierre (Techno-Pôle 3)\, alternativ auch in den Räumlichkeiten der jeweiligen Firma vor Ort.
URL:https://www-stg.ritzy.ch/course/word-grundlage/
LOCATION:Visp HES-SO\, Pflanzettastrasse 6\, 3930 Visp\, Switzerland
CATEGORIES:Informatique
ATTACH;FMTTYPE=image/png:https://www-stg.ritzy.ch/wp-content/uploads/2025/11/word1_filter.png
END:VEVENT
BEGIN:VEVENT
DTSTART;TZID=Europe/Zurich:20260602T133000
DTEND;TZID=Europe/Zurich:20260623T170000
DTSTAMP:20260421T121834
CREATED:20250708T063008Z
LAST-MODIFIED:20260421T092351Z
UID:10000342-1780407000-1782234000@www-stg.ritzy.ch
SUMMARY:Excel - Grundlage
DESCRIPTION:Excel-Tabellen sind eine einfache Möglichkeit\, mit minimalen Aufwand-Daten zu formatieren und nützliche Zusatzfunktionen nützen. Einige Merkmale von Excel sind einfache Dateneingabe\, automatisches Filtern und Sortieren von Daten\, Ergebnisse auf Knopfdruck erhalten\, automatische Vervollständigung von Formeln\, etc. Nach diesem Kurs werden Sie in der Lage sein\, Excel noch effektiver in Ihrem Alltag nutzen. Unsere eigenentwickelten Unterlagen unterstützen Sie auch nach dem Kurs mit wertvollen Informationen. \nUnterrichtsort : HES-SO Wallis\, Standort Visp (Pflanzenstrasse 6)\, oder Standort Sierre (Techno-Pôle 3)\,alternativ auch in den Räumlichkeiten der jeweiligen Firma vor Ort.
URL:https://www-stg.ritzy.ch/course/excel-grundlage/
LOCATION:Visp HES-SO\, Pflanzettastrasse 6\, 3930 Visp\, Switzerland
CATEGORIES:Informatique
ATTACH;FMTTYPE=image/png:https://www-stg.ritzy.ch/wp-content/uploads/2025/07/Excel-filter.png
END:VEVENT
BEGIN:VEVENT
DTSTART;TZID=Europe/Zurich:20260616T100000
DTEND;TZID=Europe/Zurich:20260723T113000
DTSTAMP:20260421T121834
CREATED:20260324T111429Z
LAST-MODIFIED:20260421T092355Z
UID:10000586-1781604000-1784806200@www-stg.ritzy.ch
SUMMARY:Deutschkurs A1 (DI&DO)
DESCRIPTION:Herzlich willkommen zu unserem Deutschkurs für Anfänger! Dieser Kurs richtet sich an Mitarbeitende aus Hotellerie\, Gastronomie und Camping\, die ihre ersten Schritte in der deutschen Sprache machen möchten – praxisnah\, alltagsbezogen und mit viel Herz. \nSie lernen die wichtigsten Redewendungen und das passende Vokabular für den Gästekontakt: Begrüssung\, Bestellung\, Auskunft\, Small Talk und vieles mehr. Rollenspiele\, Dialogübungen und typische Situationen aus dem Berufsalltag sorgen für lebendiges Lernen und stärken Ihr Selbstvertrauen beim Sprechen. \nKursumfang\n\n 24 Lektionen à 45 Minuten\nZwei Tage pro Woche (je 1\,5 Stunden)
URL:https://www-stg.ritzy.ch/course/deutschkurs-a1/
LOCATION:Saas-Fee\, Switzerland
CATEGORIES:Langues
ATTACH;FMTTYPE=image/png:https://www-stg.ritzy.ch/wp-content/uploads/2026/03/de_2_FILTER1.png
END:VEVENT
BEGIN:VEVENT
DTSTART;TZID=Europe/Zurich:20260616T114500
DTEND;TZID=Europe/Zurich:20260730T131500
DTSTAMP:20260421T121834
CREATED:20260324T111434Z
LAST-MODIFIED:20260421T092356Z
UID:10000587-1781610300-1785417300@www-stg.ritzy.ch
SUMMARY:Deutschkurs A2 (DI&DO)
DESCRIPTION:Dieser Kurs richtet sich an Personen mit Grundkenntnissen in Deutsch\, die ihre Sprachkompetenz gezielt vertiefen möchten – praxisnah\, berufsbezogen und mit Freude am Lernen. \nIm Mittelpunkt stehen typische Situationen aus dem Arbeitsalltag in Hotellerie\, Gastronomie und Camping: vom Gästeempfang über Menübestellungen und Zimmerreservationen bis hin zum Check-Out und zur Kundenbetreuung. \nMit abwechslungsreichen Übungen\, Rollenspielen und alltagsnahen Dialogen erweitern die Teilnehmenden ihren Wortschatz\, verbessern ihre Ausdrucksfähigkeit und gewinnen Sicherheit im Umgang mit deutschsprachigen Gästen. Auch Themen wie Kochen\, Frühstücksservice\, Weinkunde und das Hinterlassen von Nachrichten werden behandelt – stets mit Blick auf die Praxis. \nZum Abschluss bereiten Sie sich gezielt auf die Prüfung vor – inklusive Wiederholung und Schlussexamen. \nKursumfang\n\n28 Lektionen à 45 Minuten\nVerteilt auf zwei Tage pro Woche (je 1\,5 Stunden)\n\nSie wissen nicht\, ob dieser Kurs für Sie geeignet ist? Testen Sie Ihr Wissen online mit unserem Einstufungstest! Der Test dauert ca. 15 Minuten.
URL:https://www-stg.ritzy.ch/course/deutschkurs-a2/
LOCATION:Saas-Fee\, Switzerland
CATEGORIES:Langues
ATTACH;FMTTYPE=image/png:https://www-stg.ritzy.ch/wp-content/uploads/2026/03/All_Filter.png
END:VEVENT
BEGIN:VEVENT
DTSTART;TZID=Europe/Zurich:20260616T133000
DTEND;TZID=Europe/Zurich:20260730T150000
DTSTAMP:20260421T121834
CREATED:20260414T151445Z
LAST-MODIFIED:20260421T092356Z
UID:10000609-1781616600-1785423600@www-stg.ritzy.ch
SUMMARY:Deutschkurs B1
DESCRIPTION:Dieser Kurs richtet sich an Personen mit Deutschkenntnissen auf Niveau A2\, die ihre Sprachkompetenz gezielt erweitern möchten – mit Fokus auf den Berufsalltag in Hotellerie\, Gastronomie und Camping. \nSie vertiefen Ihre Grammatik\, erweitern Ihren Fachwortschatz und lernen\, sich klar\, höflich und sicher auszudrücken – sowohl im Gespräch mit Gästen als auch im Team. \nDurch praxisnahe Übungen\, Rollenspiele und berufsbezogene Szenarien gewinnen Sie mehr Sicherheit im Sprechen\, Verstehen und Formulieren. Ob beim Empfang\, bei der Menüberatung\, im Service oder bei der Zimmerreservierung – Sie trainieren\, was zählt. \nKursumfang\n\n28 Lektionen à 45 Minuten\nVerteilt auf zwei Tage pro Woche (je 1\,5 Stunden)
URL:https://www-stg.ritzy.ch/course/deutschkurs-b1/
LOCATION:Saas-Fee\, Switzerland
CATEGORIES:Langues
ATTACH;FMTTYPE=image/png:https://www-stg.ritzy.ch/wp-content/uploads/2026/04/Deutschb1_filter.png
END:VEVENT
BEGIN:VEVENT
DTSTART;TZID=Europe/Zurich:20260617T093000
DTEND;TZID=Europe/Zurich:20260722T110000
DTSTAMP:20260421T121834
CREATED:20260414T141600Z
LAST-MODIFIED:20260421T092357Z
UID:10000607-1781688600-1784718000@www-stg.ritzy.ch
SUMMARY:Französischkurs A1(MO+MI)
DESCRIPTION:Bienvenue! Dieser praxisorientierte Sprachkurs richtet sich an alle\, die im Hotel-\, Gastronomie- oder Campingbereich tätig sind und ihre Französischkenntnisse gezielt für den Berufsalltag erweitern möchten. \nSie lernen die Sprache dort\, wo sie gebraucht wird: beim Check-in\, im Service\, bei der Gästekommunikation – mit dem passenden Vokabular und typischen Redewendungen. \nRollenspiele\, Dialoge und Alltagssituationen sorgen für lebendiges Lernen und stärken Ihre Sicherheit im Umgang mit französischsprachigen Gästen. Ob Begrüßung\, Menüempfehlung oder Small Talk – Sie üben\, was zählt. \nKursumfang\n24 Lektionen à 45 Minuten – verteilt auf zwei Tage pro Woche (je 1\,5 Stunden)
URL:https://www-stg.ritzy.ch/course/franzoesischkurs-a1/
LOCATION:Omnibus Zermatt\, Sport- und Begegnungsplatz Obere Matte\, Switzerland
CATEGORIES:Langues
ATTACH;FMTTYPE=image/png:https://www-stg.ritzy.ch/wp-content/uploads/2026/04/Fr_filter-1.png
END:VEVENT
BEGIN:VEVENT
DTSTART;TZID=Europe/Zurich:20260617T140000
DTEND;TZID=Europe/Zurich:20260727T153000
DTSTAMP:20260421T121834
CREATED:20260414T131332Z
LAST-MODIFIED:20260421T092357Z
UID:10000606-1781704800-1785166200@www-stg.ritzy.ch
SUMMARY:Französischkurs A1 (MO+MI) Saas Fee
DESCRIPTION:Bienvenue! Dieser praxisorientierte Sprachkurs richtet sich an alle\, die im Hotel-\, Gastronomie- oder Campingbereich tätig sind und ihre Französischkenntnisse gezielt für den Berufsalltag erweitern möchten. \nSie lernen die Sprache dort\, wo sie gebraucht wird: beim Check-in\, im Service\, bei der Gästekommunikation – mit dem passenden Vokabular und typischen Redewendungen. \nRollenspiele\, Dialoge und Alltagssituationen sorgen für lebendiges Lernen und stärken Ihre Sicherheit im Umgang mit französischsprachigen Gästen. Ob Begrüßung\, Menüempfehlung oder Small Talk – Sie üben\, was zählt. \nKursumfang\n24 Lektionen à 45 Minuten – verteilt auf zwei Tage pro Woche (je 1\,5 Stunden)
URL:https://www-stg.ritzy.ch/course/franzoesischkurs-a1/
LOCATION:Saas-Fee\, Switzerland
CATEGORIES:Langues
ATTACH;FMTTYPE=image/png:https://www-stg.ritzy.ch/wp-content/uploads/2026/04/Fr_filter.png
END:VEVENT
BEGIN:VEVENT
DTSTART;TZID=Europe/Zurich:20260617T154500
DTEND;TZID=Europe/Zurich:20260803T171500
DTSTAMP:20260421T121834
CREATED:20260416T151553Z
LAST-MODIFIED:20260421T092358Z
UID:10000610-1781711100-1785777300@www-stg.ritzy.ch
SUMMARY:Französischkurs A2 (MO+MI)
DESCRIPTION:Willkommen zu diesem Sprachkurs\, der speziell für Fachkräfte im Bereich Gästebetreuung konzipiert wurde. Sie lernen Französisch so\, wie es in Hotels\, Restaurants und auf Campingplätzen tatsächlich gesprochen wird – mit einem Wortschatz\, der auf reale Alltagssituationen abgestimmt ist. \nDurch Rollenspiele\, Dialoge und praxisnahe Szenarien gewinnen Sie Sicherheit im Umgang mit französischsprachigen Gästen. Ob bei einer Reservierung\, einer Empfehlung oder einem lockeren Gespräch – Sie werden in der Lage sein\, freundlich und souverän zu kommunizieren. \nKursdauer\n28 Lektionen à 45 Minuten – aufgeteilt auf zwei Termine pro Woche (jeweils 1\,5 Stunden) \nSie wissen nicht\, ob dieser Kurs für Sie geeignet ist? Testen Sie Ihr Wissen online mit unserem Einstufungstest! Der Test dauert ca. 15 Minuten. (Sprache Deutsch oben rechts einstellen)
URL:https://www-stg.ritzy.ch/course/franzoesischkurs-a2/
LOCATION:Saas-Fee\, Switzerland
CATEGORIES:Langues
ATTACH;FMTTYPE=image/png:https://www-stg.ritzy.ch/wp-content/uploads/2026/04/FR_2_FILTER2-1.png
END:VEVENT
END:VCALENDAR