BEGIN:VCALENDAR
VERSION:2.0
PRODID:-//ritzy* - ECPv6.15.16//NONSGML v1.0//EN
CALSCALE:GREGORIAN
METHOD:PUBLISH
X-WR-CALNAME:ritzy*
X-ORIGINAL-URL:https://www-stg.ritzy.ch
X-WR-CALDESC:Veranstaltungen für ritzy*
REFRESH-INTERVAL;VALUE=DURATION:PT1H
X-Robots-Tag:noindex
X-PUBLISHED-TTL:PT1H
BEGIN:VTIMEZONE
TZID:Europe/Zurich
BEGIN:DAYLIGHT
TZOFFSETFROM:+0100
TZOFFSETTO:+0200
TZNAME:CEST
DTSTART:20250330T010000
END:DAYLIGHT
BEGIN:STANDARD
TZOFFSETFROM:+0200
TZOFFSETTO:+0100
TZNAME:CET
DTSTART:20251026T010000
END:STANDARD
BEGIN:DAYLIGHT
TZOFFSETFROM:+0100
TZOFFSETTO:+0200
TZNAME:CEST
DTSTART:20260329T010000
END:DAYLIGHT
BEGIN:STANDARD
TZOFFSETFROM:+0200
TZOFFSETTO:+0100
TZNAME:CET
DTSTART:20261025T010000
END:STANDARD
BEGIN:DAYLIGHT
TZOFFSETFROM:+0100
TZOFFSETTO:+0200
TZNAME:CEST
DTSTART:20270328T010000
END:DAYLIGHT
BEGIN:STANDARD
TZOFFSETFROM:+0200
TZOFFSETTO:+0100
TZNAME:CET
DTSTART:20271031T010000
END:STANDARD
END:VTIMEZONE
BEGIN:VEVENT
DTSTART;TZID=Europe/Zurich:20260608T090000
DTEND;TZID=Europe/Zurich:20260608T170000
DTSTAMP:20260421T085358
CREATED:20260120T141931Z
LAST-MODIFIED:20260421T062226Z
UID:10000537-1780909200-1780938000@www-stg.ritzy.ch
SUMMARY:Walliser & Schweizer Wein – kompakt\, sensorisch & praxisnah
DESCRIPTION:Erleben Sie Schweizer Wein kompakt und praxisnah! In diesem Tageskurs mit drei Nachmittagsmodulen entdecken Ihre Mitarbeitenden die Vielfalt des Walliser und Schweizer Weinbaus. Von Rebsorten und Vinifikation über Sensorik und Foodpairing bis hin zu aktuellen Trends – inklusive Verkostungen\, Aroma-Parcours und Serviceübungen. Ideal für Gastronomie\, Hotellerie und Gastgeber:innen\, die Weinwissen vertiefen und Gäste kompetent beraten möchten.
URL:https://www-stg.ritzy.ch/course/walliser-schweizer-wein-kompakt-sensorisch-praxisnah/
LOCATION:Zermatt\, Switzerland
CATEGORIES:Gastronomie & Hotellerie
ATTACH;FMTTYPE=image/jpeg:https://www-stg.ritzy.ch/wp-content/uploads/2026/01/WalliserSchweizerWeine.jpg
END:VEVENT
END:VCALENDAR